BEGIN:VCALENDAR
VERSION:2.0
PRODID:-//Association du personnel administratif professionnel de l&#039;Université Laval - ECPv5.9.0//NONSGML v1.0//EN
CALSCALE:GREGORIAN
METHOD:PUBLISH
X-WR-CALNAME:Association du personnel administratif professionnel de l&#039;Université Laval
X-ORIGINAL-URL:https://apapul.org
X-WR-CALDESC:Événements pour Association du personnel administratif professionnel de l&#039;Université Laval
BEGIN:VTIMEZONE
TZID:America/Toronto
BEGIN:DAYLIGHT
TZOFFSETFROM:-0500
TZOFFSETTO:-0400
TZNAME:EDT
DTSTART:20180311T070000
END:DAYLIGHT
BEGIN:STANDARD
TZOFFSETFROM:-0400
TZOFFSETTO:-0500
TZNAME:EST
DTSTART:20181104T060000
END:STANDARD
END:VTIMEZONE
BEGIN:VEVENT
DTSTART;TZID=America/Toronto:20181128T170000
DTEND;TZID=America/Toronto:20181128T190000
DTSTAMP:20260424T141921
CREATED:20181106T033652Z
LAST-MODIFIED:20181122T203719Z
UID:4022-1543424400-1543431600@apapul.org
SUMMARY:5 à 7 de Noël de l'APAPUL
DESCRIPTION:L’APAPUL invite ses membres à participer à son traditionnel 5 à 7 de Noël qui\, cette année\, clôturera les Fêtes de son 50e anniversaire. Pour l’occasion\, le comité des activités professionnelles et sociales de l’APAPUL a choisi le restaurant La Belle et La Boeuf\, situé à Place Ste-Foy. Le restaurant-bar offre un décor original et une belle variété de cocktails. Au plaisir de vous recevoir en grand nombre ! Veuillez réserver votre place à evenements@apapul.ulaval.ca 						\n				\n					\n		\n				\n			\n						\n				\n																										\n				\n					\n		\n					\n		\n				\n						\n					\n			\n						\n				\n																										\n				\n					\n		\n				\n			\n						\n				\n																										\n				\n					\n		\n				\n			\n						\n				\n																										\n				\n					\n		\n					\n		\n				\n						\n					\n			\n						\n				\n							Merci à SSQ\, notre fidèle partenaire du 5 à 7 de Noël.
URL:https://apapul.org/evenement/5-a-7-apapul/
LOCATION:La Belle et la Boeuf\, Place Ste-Foy\, Québec\, QC\, G1V 2L1\, Canada
CATEGORIES:Activités sociales
ATTACH;FMTTYPE=image/png:https://apapul.org/wp-content/uploads/2018/11/Capture-d’écran-2018-11-05-à-22.36.19.png
END:VEVENT
END:VCALENDAR