BEGIN:VCALENDAR
VERSION:2.0
PRODID:-//Association du personnel administratif professionnel de l&#039;Université Laval - ECPv5.9.0//NONSGML v1.0//EN
CALSCALE:GREGORIAN
METHOD:PUBLISH
X-WR-CALNAME:Association du personnel administratif professionnel de l&#039;Université Laval
X-ORIGINAL-URL:https://apapul.org
X-WR-CALDESC:Événements pour Association du personnel administratif professionnel de l&#039;Université Laval
BEGIN:VTIMEZONE
TZID:America/Toronto
BEGIN:DAYLIGHT
TZOFFSETFROM:-0500
TZOFFSETTO:-0400
TZNAME:EDT
DTSTART:20210314T070000
END:DAYLIGHT
BEGIN:STANDARD
TZOFFSETFROM:-0400
TZOFFSETTO:-0500
TZNAME:EST
DTSTART:20211107T060000
END:STANDARD
END:VTIMEZONE
BEGIN:VEVENT
DTSTART;TZID=America/Toronto:20210928T110000
DTEND;TZID=America/Toronto:20210928T133000
DTSTAMP:20260424T084148
CREATED:20210915T132806Z
LAST-MODIFIED:20210915T194440Z
UID:10095-1632826800-1632835800@apapul.org
SUMMARY:Assemblée de renouvellement de la convention collective - Première partie
DESCRIPTION:Sujets: Permanence\, statut\, dotation et autres clauses normatives L’événement se tiendra en présentiel à la salle Hydro-Québec du pavillon Desjardins et en ligne sur ZOOM. Cliquez ici pour vous inscrire à l’événement.
URL:https://apapul.org/evenement/assemblee-de-renouvellement-de-la-convention-collective-premiere-partie/
LOCATION:Hydro Québec\, pavillon Desjardins
ORGANIZER;CN="APAPUL":MAILTO:apapul@apapul.ulaval.ca
END:VEVENT
END:VCALENDAR