BEGIN:VCALENDAR
VERSION:2.0
PRODID:-//Association du personnel administratif professionnel de l&#039;Université Laval - ECPv5.9.0//NONSGML v1.0//EN
CALSCALE:GREGORIAN
METHOD:PUBLISH
X-WR-CALNAME:Association du personnel administratif professionnel de l&#039;Université Laval
X-ORIGINAL-URL:https://apapul.org
X-WR-CALDESC:Événements pour Association du personnel administratif professionnel de l&#039;Université Laval
BEGIN:VTIMEZONE
TZID:America/Toronto
BEGIN:DAYLIGHT
TZOFFSETFROM:-0500
TZOFFSETTO:-0400
TZNAME:EDT
DTSTART:20200308T070000
END:DAYLIGHT
BEGIN:STANDARD
TZOFFSETFROM:-0400
TZOFFSETTO:-0500
TZNAME:EST
DTSTART:20201101T060000
END:STANDARD
END:VTIMEZONE
BEGIN:VEVENT
DTSTART;TZID=America/Toronto:20200527T103000
DTEND;TZID=America/Toronto:20200527T120000
DTSTAMP:20260424T123114
CREATED:20200430T162027Z
LAST-MODIFIED:20200521T181654Z
UID:7760-1590575400-1590580800@apapul.org
SUMMARY:Assemblée générale annuelle
DESCRIPTION:Vous recevrez les informations pour accéder à la rencontre sur ADOBE CONNECT dans les 24 heures précédent l’événement. \nInscription à l'assemblée générale annuellePlease enable JavaScript in your browser to complete this form.Courriel (institutionnel si possible) *NameSoumettre  \nOrdre du jour de l’Assemblée annuelle du 27 mai 2020
URL:https://apapul.org/evenement/assemblee-generale-annuelle-2/
CATEGORIES:assemblée
END:VEVENT
END:VCALENDAR