BEGIN:VCALENDAR
VERSION:2.0
PRODID:-//Association du personnel administratif professionnel de l&#039;Université Laval - ECPv5.9.0//NONSGML v1.0//EN
CALSCALE:GREGORIAN
METHOD:PUBLISH
X-WR-CALNAME:Association du personnel administratif professionnel de l&#039;Université Laval
X-ORIGINAL-URL:https://apapul.org
X-WR-CALDESC:Événements pour Association du personnel administratif professionnel de l&#039;Université Laval
BEGIN:VTIMEZONE
TZID:America/Toronto
BEGIN:DAYLIGHT
TZOFFSETFROM:-0500
TZOFFSETTO:-0400
TZNAME:EDT
DTSTART:20190310T070000
END:DAYLIGHT
BEGIN:STANDARD
TZOFFSETFROM:-0400
TZOFFSETTO:-0500
TZNAME:EST
DTSTART:20191103T060000
END:STANDARD
END:VTIMEZONE
BEGIN:VEVENT
DTSTART;TZID=America/Toronto:20190529T120500
DTEND;TZID=America/Toronto:20190529T131500
DTSTAMP:20260420T061341
CREATED:20190416T183545Z
LAST-MODIFIED:20190522T132511Z
UID:5407-1559131500-1559135700@apapul.org
SUMMARY:Assemblée générale annuelle
DESCRIPTION:L’APAPUL invite ses membres à son assemblée générale annuelle. Le président y parlera des faits saillants de la dernière année et fera un survol des travaux relatifs aux négociations. Les membres seront également invités à voter sur les propositions d’une mise à jour au Règlement général et sur un transfert d’actifs au profit du Fonds de défense professionnelle.
URL:https://apapul.org/evenement/assemblee-generale-annuelle/
LOCATION:Pavillon Alphonse-Desjardins\, Amphithéâtre Hydro Québec\, 2325 RUE DE L'UNIVERSITÉ BUR. 3330\, québec\, Québec\, G1V 0A6\, Canada
ORGANIZER;CN="APAPUL":MAILTO:apapul@apapul.ulaval.ca
END:VEVENT
END:VCALENDAR