BEGIN:VCALENDAR
VERSION:2.0
PRODID:-//Association du personnel administratif professionnel de l&#039;Université Laval - ECPv5.9.0//NONSGML v1.0//EN
CALSCALE:GREGORIAN
METHOD:PUBLISH
X-WR-CALNAME:Association du personnel administratif professionnel de l&#039;Université Laval
X-ORIGINAL-URL:https://apapul.org
X-WR-CALDESC:Événements pour Association du personnel administratif professionnel de l&#039;Université Laval
BEGIN:VTIMEZONE
TZID:America/Toronto
BEGIN:DAYLIGHT
TZOFFSETFROM:-0500
TZOFFSETTO:-0400
TZNAME:EDT
DTSTART:20200308T070000
END:DAYLIGHT
BEGIN:STANDARD
TZOFFSETFROM:-0400
TZOFFSETTO:-0500
TZNAME:EST
DTSTART:20201101T060000
END:STANDARD
END:VTIMEZONE
BEGIN:VEVENT
DTSTART;TZID=America/Toronto:20200220T120500
DTEND;TZID=America/Toronto:20200220T130000
DTSTAMP:20260424T102605
CREATED:20200211T191606Z
LAST-MODIFIED:20200214T141035Z
UID:7403-1582200300-1582203600@apapul.org
SUMMARY:Assemblée générale extraordinaire
DESCRIPTION:Ordre du jour \n\nIndexation du RRPePUL (IR-2019-01)\nLettre d’entente LE-2020-01\nLettre d’entente LE-2020-02\nAmendement 31 (AR-31-2020-01)\nLettre d’entente LE-2020-03\nRèglement général : proposition du maintien du nombre d’administrateurs\nSuivi des travaux sur le renouvellement de la convention collective
URL:https://apapul.org/evenement/assemblee-generale-extraordinaire-3/
LOCATION:Pavillon Alphonse-Desjardins\, Amphithéâtre Hydro-Québec
CATEGORIES:assemblée
END:VEVENT
END:VCALENDAR