BEGIN:VCALENDAR
VERSION:2.0
PRODID:-//Association du personnel administratif professionnel de l&#039;Université Laval - ECPv5.9.0//NONSGML v1.0//EN
CALSCALE:GREGORIAN
METHOD:PUBLISH
X-WR-CALNAME:Association du personnel administratif professionnel de l&#039;Université Laval
X-ORIGINAL-URL:https://apapul.org
X-WR-CALDESC:Événements pour Association du personnel administratif professionnel de l&#039;Université Laval
BEGIN:VTIMEZONE
TZID:America/Toronto
BEGIN:DAYLIGHT
TZOFFSETFROM:-0500
TZOFFSETTO:-0400
TZNAME:EDT
DTSTART:20230312T070000
END:DAYLIGHT
BEGIN:STANDARD
TZOFFSETFROM:-0400
TZOFFSETTO:-0500
TZNAME:EST
DTSTART:20231105T060000
END:STANDARD
END:VTIMEZONE
BEGIN:VEVENT
DTSTART;TZID=America/Toronto:20230330T120000
DTEND;TZID=America/Toronto:20230330T133000
DTSTAMP:20260424T060427
CREATED:20230228T184745Z
LAST-MODIFIED:20230228T184745Z
UID:12476-1680177600-1680183000@apapul.org
SUMMARY:Assemblée générale extraordinaire
DESCRIPTION:
URL:https://apapul.org/evenement/assemblee-generale-extraordinaire-7/
LOCATION:Pavillon Alphonse-Desjardins\, Amphithéâtre Hydro Québec\, 2325 RUE DE L'UNIVERSITÉ BUR. 3330\, québec\, Québec\, G1V 0A6\, Canada
CATEGORIES:assemblée
ORGANIZER;CN="APAPUL":MAILTO:apapul@apapul.ulaval.ca
END:VEVENT
END:VCALENDAR