BEGIN:VCALENDAR
VERSION:2.0
PRODID:-//Association du personnel administratif professionnel de l&#039;Université Laval - ECPv5.9.0//NONSGML v1.0//EN
CALSCALE:GREGORIAN
METHOD:PUBLISH
X-WR-CALNAME:Association du personnel administratif professionnel de l&#039;Université Laval
X-ORIGINAL-URL:https://apapul.org
X-WR-CALDESC:Événements pour Association du personnel administratif professionnel de l&#039;Université Laval
BEGIN:VTIMEZONE
TZID:America/Toronto
BEGIN:DAYLIGHT
TZOFFSETFROM:-0500
TZOFFSETTO:-0400
TZNAME:EDT
DTSTART:20230312T070000
END:DAYLIGHT
BEGIN:STANDARD
TZOFFSETFROM:-0400
TZOFFSETTO:-0500
TZNAME:EST
DTSTART:20231105T060000
END:STANDARD
END:VTIMEZONE
BEGIN:VEVENT
DTSTART;TZID=America/Toronto:20231130T120000
DTEND;TZID=America/Toronto:20231130T133000
DTSTAMP:20260424T044136
CREATED:20231122T205306Z
LAST-MODIFIED:20231122T205306Z
UID:13277-1701345600-1701351000@apapul.org
SUMMARY:Assemblée générale extraordinaire
DESCRIPTION:
URL:https://apapul.org/evenement/assemblee-generale-extraordinaire-8/
CATEGORIES:assemblée
ORGANIZER;CN="APAPUL":MAILTO:apapul@apapul.ulaval.ca
END:VEVENT
END:VCALENDAR