BEGIN:VCALENDAR
VERSION:2.0
PRODID:-//Association du personnel administratif professionnel de l&#039;Université Laval - ECPv5.9.0//NONSGML v1.0//EN
CALSCALE:GREGORIAN
METHOD:PUBLISH
X-WR-CALNAME:Association du personnel administratif professionnel de l&#039;Université Laval
X-ORIGINAL-URL:https://apapul.org
X-WR-CALDESC:Événements pour Association du personnel administratif professionnel de l&#039;Université Laval
BEGIN:VTIMEZONE
TZID:America/Toronto
BEGIN:DAYLIGHT
TZOFFSETFROM:-0500
TZOFFSETTO:-0400
TZNAME:EDT
DTSTART:20180311T070000
END:DAYLIGHT
BEGIN:STANDARD
TZOFFSETFROM:-0400
TZOFFSETTO:-0500
TZNAME:EST
DTSTART:20181104T060000
END:STANDARD
END:VTIMEZONE
BEGIN:VEVENT
DTSTART;TZID=America/Toronto:20181108T120500
DTEND;TZID=America/Toronto:20181108T133000
DTSTAMP:20260424T143359
CREATED:20181106T031718Z
LAST-MODIFIED:20181106T032708Z
UID:4013-1541678700-1541683800@apapul.org
SUMMARY:Assemblée générale extraordinaire
DESCRIPTION:Assemblée générale extraordinaireQUAND ?Jeudi 8 novembre 2018\, 12 h 05Pavillon La Laurentienne\, Salle 1334 Lors de cette assemblée générale\, les membres seront invités à se prononcer sur différents sujets dont principalement celui de la restructuration des instances démocratiques de l’APAPUL. En effet\, suite à une tournée de consultations à l’hiver dernier\, l’APAPUL a achevé ses travaux afin de présenter à ses membres une nouvelle structure démocratique. De plus\, nous profiterons de l’occasion pour présenter le mode de négociation retenu et les consultations à venir en vue d’amorcer les négociations du renouvellement de notre convention collective venant à échéance le 31 décembre prochain.L’ordre du jour ci-dessous présente tous les détails relatifs aux sujets qui seront discutés. Nous comptons sur votre présence. Au plaisir de vous accueillir.1. Ouverture de l’Assemblée2. Vérification du quorum3. Versement des trop-perçus au compte de défalcation salariale4. Renouvellement de la convention collective : consultations et stratégies retenues5. Mise à jour du plan de classification des emplois : modalités de fonctionnement du processus6. Proposition de modifications au Règlement général (vote prévu)6.1  Création du conseil professionnel : Le conseil professionnel est constitué en vue de favoriser la circulation de l’information entre le personnel professionnel et leur Association et de les consulter sur divers enjeux d’importance. Présentation du conseil professionnel6.2  Modifications au conseil d’administration : Ce point comporte une modification au nombre d’administrateurs et d’administratrices (article 3.2.1)6.3  Proposition d’abolition du Règlement sur les élections (vote prévu) 6.4  Autres modifications7. Proposition d’approbation de la lettre d’entente LE-2018-05 : modifications des instances démocratiques de l’APAPUL (vote prévu) 8. Proposition de modifications au Règlement concernant le Fonds de défense professionnelle (vote prévu)9. Proposition d’approbation de la lettre d’entente LE-2018-04 : modifications des exigences normales de la fonction de consultant/e en counseling et de l’annexe C de la convention collective (vote prévu) 10. Choix de la firme d’audit externe pour les années financières 2018-2019 à 2022-2023 (vote prévu) 11. Période de questions12. Clôture de la séance
URL:https://apapul.org/evenement/assemblee-generale-extraordinaire/
CATEGORIES:assemblée
ORGANIZER;CN="APAPUL":MAILTO:apapul@apapul.ulaval.ca
END:VEVENT
END:VCALENDAR