BEGIN:VCALENDAR
VERSION:2.0
PRODID:-//Association du personnel administratif professionnel de l&#039;Université Laval - ECPv5.9.0//NONSGML v1.0//EN
CALSCALE:GREGORIAN
METHOD:PUBLISH
X-WR-CALNAME:Association du personnel administratif professionnel de l&#039;Université Laval
X-ORIGINAL-URL:https://apapul.org
X-WR-CALDESC:Événements pour Association du personnel administratif professionnel de l&#039;Université Laval
BEGIN:VTIMEZONE
TZID:America/Toronto
BEGIN:DAYLIGHT
TZOFFSETFROM:-0500
TZOFFSETTO:-0400
TZNAME:EDT
DTSTART:20190310T070000
END:DAYLIGHT
BEGIN:STANDARD
TZOFFSETFROM:-0400
TZOFFSETTO:-0500
TZNAME:EST
DTSTART:20191103T060000
END:STANDARD
END:VTIMEZONE
BEGIN:VEVENT
DTSTART;TZID=America/Toronto:20190613T090000
DTEND;TZID=America/Toronto:20190613T120000
DTSTAMP:20260420T061439
CREATED:20190530T154741Z
LAST-MODIFIED:20190530T154741Z
UID:5659-1560416400-1560427200@apapul.org
SUMMARY:Conseil d'administration
DESCRIPTION:
URL:https://apapul.org/evenement/conseil-dadministration/
END:VEVENT
END:VCALENDAR