BEGIN:VCALENDAR
VERSION:2.0
PRODID:-//Association du personnel administratif professionnel de l&#039;Université Laval - ECPv5.9.0//NONSGML v1.0//EN
CALSCALE:GREGORIAN
METHOD:PUBLISH
X-WR-CALNAME:Association du personnel administratif professionnel de l&#039;Université Laval
X-ORIGINAL-URL:https://apapul.org
X-WR-CALDESC:Événements pour Association du personnel administratif professionnel de l&#039;Université Laval
BEGIN:VTIMEZONE
TZID:America/Toronto
BEGIN:DAYLIGHT
TZOFFSETFROM:-0500
TZOFFSETTO:-0400
TZNAME:EDT
DTSTART:20200308T070000
END:DAYLIGHT
BEGIN:STANDARD
TZOFFSETFROM:-0400
TZOFFSETTO:-0500
TZNAME:EST
DTSTART:20201101T060000
END:STANDARD
END:VTIMEZONE
BEGIN:VEVENT
DTSTART;VALUE=DATE:20200513
DTEND;VALUE=DATE:20200514
DTSTAMP:20260424T103443
CREATED:20191213T140528Z
LAST-MODIFIED:20191213T140528Z
UID:7163-1589328000-1589414399@apapul.org
SUMMARY:Conseil professionnel
DESCRIPTION:
URL:https://apapul.org/evenement/conseil-professionnel-4/
END:VEVENT
END:VCALENDAR