BEGIN:VCALENDAR
VERSION:2.0
PRODID:-//Association du personnel administratif professionnel de l&#039;Université Laval - ECPv5.9.0//NONSGML v1.0//EN
CALSCALE:GREGORIAN
METHOD:PUBLISH
X-WR-CALNAME:Association du personnel administratif professionnel de l&#039;Université Laval
X-ORIGINAL-URL:https://apapul.org
X-WR-CALDESC:Événements pour Association du personnel administratif professionnel de l&#039;Université Laval
BEGIN:VTIMEZONE
TZID:America/Toronto
BEGIN:DAYLIGHT
TZOFFSETFROM:-0500
TZOFFSETTO:-0400
TZNAME:EDT
DTSTART:20190310T070000
END:DAYLIGHT
BEGIN:STANDARD
TZOFFSETFROM:-0400
TZOFFSETTO:-0500
TZNAME:EST
DTSTART:20191103T060000
END:STANDARD
END:VTIMEZONE
BEGIN:VEVENT
DTSTART;TZID=America/Toronto:20190927T120000
DTEND;TZID=America/Toronto:20190927T130000
DTSTAMP:20260420T080558
CREATED:20190920T133701Z
LAST-MODIFIED:20190924T124549Z
UID:6700-1569585600-1569589200@apapul.org
SUMMARY:Semaine pour l'avenir : marche sur la cité universitaire
DESCRIPTION:Venez prendre l’air avec nous! Rassemblement à l’Espace vert (Grand axe B) situé entre les pavillons Charles-De Koninck et Alexandre-Vachon et départ à 12 h 15.
URL:https://apapul.org/evenement/marche-mondiale-pour-le-climat-a-luniversite-laval/
LOCATION:Grand axe\, cité universitaire
CATEGORIES:Activités sociales
END:VEVENT
END:VCALENDAR